BEGIN:VCALENDAR
VERSION:2.0
PRODID:-//Cedar Rapids Area Association of REALTORS® Scholarship Committee - ECPv6.15.20//NONSGML v1.0//EN
CALSCALE:GREGORIAN
METHOD:PUBLISH
X-ORIGINAL-URL:https://craarscholarship.org
X-WR-CALDESC:Events for Cedar Rapids Area Association of REALTORS® Scholarship Committee
REFRESH-INTERVAL;VALUE=DURATION:PT1H
X-Robots-Tag:noindex
X-PUBLISHED-TTL:PT1H
BEGIN:VTIMEZONE
TZID:America/Chicago
BEGIN:DAYLIGHT
TZOFFSETFROM:-0600
TZOFFSETTO:-0500
TZNAME:CDT
DTSTART:20210314T080000
END:DAYLIGHT
BEGIN:STANDARD
TZOFFSETFROM:-0500
TZOFFSETTO:-0600
TZNAME:CST
DTSTART:20211107T070000
END:STANDARD
BEGIN:DAYLIGHT
TZOFFSETFROM:-0600
TZOFFSETTO:-0500
TZNAME:CDT
DTSTART:20220313T080000
END:DAYLIGHT
BEGIN:STANDARD
TZOFFSETFROM:-0500
TZOFFSETTO:-0600
TZNAME:CST
DTSTART:20221106T070000
END:STANDARD
BEGIN:DAYLIGHT
TZOFFSETFROM:-0600
TZOFFSETTO:-0500
TZNAME:CDT
DTSTART:20230312T080000
END:DAYLIGHT
BEGIN:STANDARD
TZOFFSETFROM:-0500
TZOFFSETTO:-0600
TZNAME:CST
DTSTART:20231105T070000
END:STANDARD
BEGIN:DAYLIGHT
TZOFFSETFROM:-0600
TZOFFSETTO:-0500
TZNAME:CDT
DTSTART:20240310T080000
END:DAYLIGHT
BEGIN:STANDARD
TZOFFSETFROM:-0500
TZOFFSETTO:-0600
TZNAME:CST
DTSTART:20241103T070000
END:STANDARD
BEGIN:DAYLIGHT
TZOFFSETFROM:-0600
TZOFFSETTO:-0500
TZNAME:CDT
DTSTART:20250309T080000
END:DAYLIGHT
BEGIN:STANDARD
TZOFFSETFROM:-0500
TZOFFSETTO:-0600
TZNAME:CST
DTSTART:20251102T070000
END:STANDARD
END:VTIMEZONE
BEGIN:VEVENT
DTSTART;TZID=America/Chicago:20240605T103000
DTEND;TZID=America/Chicago:20240605T113000
DTSTAMP:20260421T082618
CREATED:20240306T041744Z
LAST-MODIFIED:20240306T041744Z
UID:626-1717583400-1717587000@craarscholarship.org
SUMMARY:Committee Meeting
DESCRIPTION:This is a closed meeting.
URL:https://craarscholarship.org/event/committee-meeting-6/
LOCATION:CRAAR Office\, 1860 1st Ave NE\, Cedar Rapids\, IA\, 52402\, United States
CATEGORIES:Monthly Meeting
END:VEVENT
BEGIN:VEVENT
DTSTART;TZID=America/Chicago:20240514T160000
DTEND;TZID=America/Chicago:20240514T190000
DTSTAMP:20260421T082618
CREATED:20240306T042614Z
LAST-MODIFIED:20240313T185025Z
UID:632-1715702400-1715713200@craarscholarship.org
SUMMARY:Guest Bartending Night Out Fundraiser
DESCRIPTION:Thank you to this year’s presenting sponsor: Coldwell Banker Hedges Realty \nJoin us for an evening of music\, beverages\, food\, friends\, and fundraising! \nAll proceeds go to the CRAAR Scholarship Committee to fund scholarships for graduating high school seniors and current college students.
URL:https://craarscholarship.org/event/guest-bartending-night-out-fundraiser/
LOCATION:Kingston’s Steakhouse\, 568 Boyson Rd NE #100\, Cedar Rapids\, IA\, 52402\, United States
CATEGORIES:Fundraiser
END:VEVENT
BEGIN:VEVENT
DTSTART;TZID=America/Chicago:20240501T103000
DTEND;TZID=America/Chicago:20240501T113000
DTSTAMP:20260421T082618
CREATED:20240306T041707Z
LAST-MODIFIED:20240306T041707Z
UID:624-1714559400-1714563000@craarscholarship.org
SUMMARY:Committee Meeting
DESCRIPTION:This is a closed meeting.
URL:https://craarscholarship.org/event/committee-meeting-5/
LOCATION:CRAAR Office\, 1860 1st Ave NE\, Cedar Rapids\, IA\, 52402\, United States
CATEGORIES:Monthly Meeting
END:VEVENT
BEGIN:VEVENT
DTSTART;TZID=America/Chicago:20240501T103000
DTEND;TZID=America/Chicago:20240501T113000
DTSTAMP:20260421T082618
CREATED:20240306T041601Z
LAST-MODIFIED:20240306T041601Z
UID:620-1714559400-1714563000@craarscholarship.org
SUMMARY:Committee Meeting
DESCRIPTION:This is a closed meeting.
URL:https://craarscholarship.org/event/committee-meeting-4/
LOCATION:CRAAR Office\, 1860 1st Ave NE\, Cedar Rapids\, IA\, 52402\, United States
CATEGORIES:Monthly Meeting
END:VEVENT
BEGIN:VEVENT
DTSTART;TZID=America/Chicago:20240403T103000
DTEND;TZID=America/Chicago:20240403T113000
DTSTAMP:20260421T082618
CREATED:20240306T041521Z
LAST-MODIFIED:20240306T041633Z
UID:618-1712140200-1712143800@craarscholarship.org
SUMMARY:Committee Meeting
DESCRIPTION:This is a closed meeting.
URL:https://craarscholarship.org/event/committee-meeting-3/
LOCATION:CRAAR Office\, 1860 1st Ave NE\, Cedar Rapids\, IA\, 52402\, United States
CATEGORIES:Monthly Meeting
END:VEVENT
BEGIN:VEVENT
DTSTART;TZID=America/Chicago:20240325T090000
DTEND;TZID=America/Chicago:20240325T140000
DTSTAMP:20260421T082618
CREATED:20240306T042022Z
LAST-MODIFIED:20240306T042022Z
UID:630-1711357200-1711375200@craarscholarship.org
SUMMARY:Scholarship Pick Day
DESCRIPTION:The committee will gather to review all submitted and complete applications and select recipients based on need. Recipients will be notified in early April of their award. \nThis is a closed meeting.
URL:https://craarscholarship.org/event/scholarship-pick-day/
LOCATION:CRAAR Office\, 1860 1st Ave NE\, Cedar Rapids\, IA\, 52402\, United States
CATEGORIES:Application
END:VEVENT
BEGIN:VEVENT
DTSTART;VALUE=DATE:20240315
DTEND;VALUE=DATE:20240316
DTSTAMP:20260421T082618
CREATED:20230523T025839Z
LAST-MODIFIED:20240306T041426Z
UID:405-1710460800-1710547199@craarscholarship.org
SUMMARY:Scholarship Application Closes
DESCRIPTION:Last day to apply for a scholarship. Please visit the Eligibility and Guidelines page for more information and to submit an application.
URL:https://craarscholarship.org/event/applicationcloses23/
LOCATION:IA
CATEGORIES:Application
END:VEVENT
BEGIN:VEVENT
DTSTART;TZID=America/Chicago:20240307T103000
DTEND;TZID=America/Chicago:20240307T113000
DTSTAMP:20260421T082618
CREATED:20240120T150501Z
LAST-MODIFIED:20240120T150501Z
UID:593-1709807400-1709811000@craarscholarship.org
SUMMARY:Committee Meeting
DESCRIPTION:This is a closed meeting.
URL:https://craarscholarship.org/event/committee-meeting-2/
LOCATION:IA
CATEGORIES:Monthly Meeting
END:VEVENT
BEGIN:VEVENT
DTSTART;TZID=America/Chicago:20240227T110000
DTEND;TZID=America/Chicago:20240227T140000
DTSTAMP:20260421T082618
CREATED:20231208T163219Z
LAST-MODIFIED:20240520T071431Z
UID:554-1709031600-1709042400@craarscholarship.org
SUMMARY:7th Annual Bowling for Scholars
DESCRIPTION:We are looking forward to you joining us for our 7th Annual Bowling for Scholars Fundraiser. This fundraiser is held to assist the Cedar Rapids Area Association of REALTORS® Scholarship Committee in providing $500 scholarships to local high school seniors and those already attending higher education in the state of Iowa. The proceeds are used to match non-designated REALTOR® scholarships\, cover donor and recipient recognition event expenses\, and other general expenses as needed. \nEvent Details\nDate: February 27th\, 2024\nTime: 11:00am – 2:00pm\nLocation: May City Bowl\nCost: $15/bowler \nImportant Information\n-Check-in for bowling begins at 11:00 am.\n-Bowler fees are collected at time of check-in on the day of the event; CASH\, CHECK\, or VENMO.\n-Costume Contest (for your 2-person team). Theme may be bowling related or whatever your creative heart’s desire (within reason).\n-There were be prizes awarded for the winning bowling team AND the winning costumes so bring your A game! \nIf you have any other questions\, please email contact@craarscholarship.org. \nWe look forward to seeing you on February 27th at May City Bowl! \nThank you to Linn Area Credit Union for being our event sponsor! \nPlease enable JavaScript in your browser to complete this form.Bowler's InformationOnly one bowler from each duo needs to complete this form. You will need to provide each bowler's first and last name\, company name\, and email address.\n\nBy completing and submitting this form\, you understand and assume all risks associated with bowling.Bowler #1 Name *FirstLastEmail *Company *Bowler #2 Name *FirstLastEmail *Company *Submit
URL:https://craarscholarship.org/event/7th-annual-bowling-for-scholars/
LOCATION:May City Bowl\, 1648 Trent St SW\, Cedar Rapids\, IA\, 52404\, United States
CATEGORIES:Fundraiser
END:VEVENT
BEGIN:VEVENT
DTSTART;TZID=America/Chicago:20240207T103000
DTEND;TZID=America/Chicago:20240207T113000
DTSTAMP:20260421T082618
CREATED:20240120T144147Z
LAST-MODIFIED:20240120T144147Z
UID:591-1707301800-1707305400@craarscholarship.org
SUMMARY:Committee Meeting
DESCRIPTION:This is a closed meeting.
URL:https://craarscholarship.org/event/committee-meeting/
LOCATION:CRAAR Office\, 1860 1st Ave NE\, Cedar Rapids\, IA\, 52402\, United States
CATEGORIES:Monthly Meeting
END:VEVENT
BEGIN:VEVENT
DTSTART;VALUE=DATE:20231001
DTEND;VALUE=DATE:20231002
DTSTAMP:20260421T082618
CREATED:20230523T025422Z
LAST-MODIFIED:20230523T025422Z
UID:400-1696118400-1696204799@craarscholarship.org
SUMMARY:Scholarship Application Opens
DESCRIPTION:Please visit the Eligibility and Guidelines page for more information.
URL:https://craarscholarship.org/event/application23/
LOCATION:IA
END:VEVENT
BEGIN:VEVENT
DTSTART;TZID=America/Chicago:20230830T103000
DTEND;TZID=America/Chicago:20230830T160000
DTSTAMP:20260421T082618
CREATED:20230523T030202Z
LAST-MODIFIED:20230822T013916Z
UID:407-1693391400-1693411200@craarscholarship.org
SUMMARY:6th Annual REALTOR® Olympics
DESCRIPTION:Date: August 30th\, 2023\nLocation: Sag Wagon – 827 Shaver Rd NE Cedar Rapids\, Iowa 52402\nCheck-in begins at 10:30am. Events begin at 11:00am.\nRegistration Deadline EXTENDED: August 25th. Late/day of registrations will not be accepted.\n \nRegister HERE!\nExpectations\nAll participants must a current CRAAR member (REALTOR® or Affiliate) and in good standing. Team Captain will be responsible for registration\, payment via CRAAR bill\, and check-in day of event. Captains are also expected to fill their own teams\, collect fees from participants (if applicable)\, and share event rules with all participants. \nThe CRAAR Scholarship Committee reserves the right to eliminate any event due to lack of registrations and any registrations impacted by the elimination will not be billed. \n 
URL:https://craarscholarship.org/event/realtor-olympics/
LOCATION:Sag Wagon\, 827 Shaver Rd NE\, Cedar Rapids\, IA\, 52402\, United States
END:VEVENT
BEGIN:VEVENT
DTSTART;TZID=America/Chicago:20230713T120000
DTEND;TZID=America/Chicago:20230713T130000
DTSTAMP:20260421T082618
CREATED:20230408T060507Z
LAST-MODIFIED:20230408T061122Z
UID:363-1689249600-1689253200@craarscholarship.org
SUMMARY:Recipient Luncheon 2023
DESCRIPTION:Invitation only \n  \nMark your calendar to attend the recipient recognition luncheon on July 13th\, 2023 from 12pm-1pm at the National Czech & Slovak Museum & Library. Please arrive 15 minutes early to allow for check in\, lunch\, and seating. Scholarship checks along with certificates will be distributed during the event. For those unable to attend\, checks will be mailed no later than August 15th\, 2023. \n  \nPlease RSVP without delay to at https://craarscholarship.org/rsvp. RSVP deadline is July 1st.
URL:https://craarscholarship.org/event/recipient-luncheon-2023/
LOCATION:National Czech & Slovak Museum & Library\, 1400 Inspiration Pl SW\, Cedar Rapids\, IA\, 52404\, United States
END:VEVENT
BEGIN:VEVENT
DTSTART;TZID=America/Chicago:20230706T103000
DTEND;TZID=America/Chicago:20230706T113000
DTSTAMP:20260421T082618
CREATED:20230116T164211Z
LAST-MODIFIED:20230116T165109Z
UID:305-1688639400-1688643000@craarscholarship.org
SUMMARY:July Committee Meeting
DESCRIPTION:This is a closed meeting.
URL:https://craarscholarship.org/event/july-committee-meeting/
LOCATION:CRAAR Office\, 1860 1st Ave NE\, Cedar Rapids\, IA\, 52402\, United States
CATEGORIES:Monthly Meeting
ORGANIZER;CN="Raymond Siddell":MAILTO:craarscholarshipcommittee@gmail.com
END:VEVENT
BEGIN:VEVENT
DTSTART;VALUE=DATE:20230616
DTEND;VALUE=DATE:20230617
DTSTAMP:20260421T082618
CREATED:20230523T025600Z
LAST-MODIFIED:20230523T025600Z
UID:402-1686873600-1686959999@craarscholarship.org
SUMMARY:Scholarship Committee Sign-Up Opens
DESCRIPTION:Please visit crrealtors.org to sign-up.
URL:https://craarscholarship.org/event/committeesignup23/
LOCATION:IA
END:VEVENT
BEGIN:VEVENT
DTSTART;TZID=America/Chicago:20230614T113000
DTEND;TZID=America/Chicago:20230614T123000
DTSTAMP:20260421T082618
CREATED:20230116T212953Z
LAST-MODIFIED:20230523T030334Z
UID:303-1686742200-1686745800@craarscholarship.org
SUMMARY:June Committee Meeting
DESCRIPTION:This is a closed meeting.
URL:https://craarscholarship.org/event/june-committee-meeting/
LOCATION:CRAAR Office\, 1860 1st Ave NE\, Cedar Rapids\, IA\, 52402\, United States
CATEGORIES:Monthly Meeting
ORGANIZER;CN="Raymond Siddell":MAILTO:craarscholarshipcommittee@gmail.com
END:VEVENT
BEGIN:VEVENT
DTSTART;TZID=America/Chicago:20230517T160000
DTEND;TZID=America/Chicago:20230517T190000
DTSTAMP:20260421T082618
CREATED:20230408T055717Z
LAST-MODIFIED:20230410T163026Z
UID:354-1684339200-1684350000@craarscholarship.org
SUMMARY:Guest Bartending Fundraiser
DESCRIPTION:Guest Bartending Event – Raffles\, Live Music with all proceeds benefiting the CRAAR Scholarship Fund! \nLive music by Sam Joens.
URL:https://craarscholarship.org/event/guest-bartending-fundraiser/
LOCATION:Kingston’s Steakhouse\, 568 Boyson Rd NE #100\, Cedar Rapids\, IA\, 52402\, United States
END:VEVENT
BEGIN:VEVENT
DTSTART;TZID=America/Chicago:20230503T103000
DTEND;TZID=America/Chicago:20230503T113000
DTSTAMP:20260421T082618
CREATED:20230116T212759Z
LAST-MODIFIED:20230116T164131Z
UID:301-1683109800-1683113400@craarscholarship.org
SUMMARY:May Committee Meeting
DESCRIPTION:This is a closed meeting.
URL:https://craarscholarship.org/event/may-committee-meeting/
LOCATION:CRAAR Office\, 1860 1st Ave NE\, Cedar Rapids\, IA\, 52402\, United States
CATEGORIES:Monthly Meeting
ORGANIZER;CN="Raymond Siddell":MAILTO:craarscholarshipcommittee@gmail.com
END:VEVENT
BEGIN:VEVENT
DTSTART;TZID=America/Chicago:20230405T103000
DTEND;TZID=America/Chicago:20230405T113000
DTSTAMP:20260421T082618
CREATED:20230116T212719Z
LAST-MODIFIED:20230116T164117Z
UID:299-1680690600-1680694200@craarscholarship.org
SUMMARY:April Committee Meeting
DESCRIPTION:This is a closed meeting.
URL:https://craarscholarship.org/event/april-committee-meeting/
LOCATION:CRAAR Office\, 1860 1st Ave NE\, Cedar Rapids\, IA\, 52402\, United States
CATEGORIES:Monthly Meeting
ORGANIZER;CN="Raymond Siddell":MAILTO:craarscholarshipcommittee@gmail.com
END:VEVENT
BEGIN:VEVENT
DTSTART;TZID=America/Chicago:20230301T103000
DTEND;TZID=America/Chicago:20230301T113000
DTSTAMP:20260421T082618
CREATED:20230116T212636Z
LAST-MODIFIED:20230116T164059Z
UID:297-1677666600-1677670200@craarscholarship.org
SUMMARY:March Committee Meeting
DESCRIPTION:This is a closed meeting.
URL:https://craarscholarship.org/event/march-committee-meeting/
LOCATION:CRAAR Office\, 1860 1st Ave NE\, Cedar Rapids\, IA\, 52402\, United States
CATEGORIES:Monthly Meeting
ORGANIZER;CN="Raymond Siddell":MAILTO:craarscholarshipcommittee@gmail.com
END:VEVENT
BEGIN:VEVENT
DTSTART;TZID=America/Chicago:20230228T120000
DTEND;TZID=America/Chicago:20230228T150000
DTSTAMP:20260421T082618
CREATED:20221107T082512Z
LAST-MODIFIED:20230302T014610Z
UID:264-1677585600-1677596400@craarscholarship.org
SUMMARY:Bowling for Scholars
DESCRIPTION:For the first time ever\, we are going to take the CRAAR Scholarship Committee bowling fundraiser to daytime hours! Save the date to join us on February 28th at May City Bowl from 12:00 pm – 3:00 pm!! \nRegistration closes February 27th! Signup today!
URL:https://craarscholarship.org/event/bowling-for-scholars/
LOCATION:May City Bowl\, 1648 Trent St SW\, Cedar Rapids\, IA\, 52404\, United States
CATEGORIES:Fundraiser
END:VEVENT
BEGIN:VEVENT
DTSTART;TZID=America/Chicago:20230206T103000
DTEND;TZID=America/Chicago:20230206T113000
DTSTAMP:20260421T082618
CREATED:20230116T212541Z
LAST-MODIFIED:20230116T164020Z
UID:295-1675679400-1675683000@craarscholarship.org
SUMMARY:February Committee Meeting
DESCRIPTION:This is a closed meeting.
URL:https://craarscholarship.org/event/february-committee-meeting/
LOCATION:CRAAR Office\, 1860 1st Ave NE\, Cedar Rapids\, IA\, 52402\, United States
CATEGORIES:Monthly Meeting
ORGANIZER;CN="Raymond Siddell":MAILTO:craarscholarshipcommittee@gmail.com
END:VEVENT
BEGIN:VEVENT
DTSTART;TZID=America/Chicago:20230105T103000
DTEND;TZID=America/Chicago:20230105T113000
DTSTAMP:20260421T082618
CREATED:20220908T155457Z
LAST-MODIFIED:20230116T164020Z
UID:187-1672914600-1672918200@craarscholarship.org
SUMMARY:January Committee Meeting
DESCRIPTION:This is a closed meeting.
URL:https://craarscholarship.org/event/january-committee-meeting/
LOCATION:CRAAR Office\, 1860 1st Ave NE\, Cedar Rapids\, IA\, 52402\, United States
CATEGORIES:Monthly Meeting
ORGANIZER;CN="Raymond Siddell":MAILTO:craarscholarshipcommittee@gmail.com
END:VEVENT
BEGIN:VEVENT
DTSTART;TZID=America/Chicago:20221201T103000
DTEND;TZID=America/Chicago:20221201T113000
DTSTAMP:20260421T082618
CREATED:20220908T155221Z
LAST-MODIFIED:20230116T164020Z
UID:185-1669890600-1669894200@craarscholarship.org
SUMMARY:December Committee Meeting
DESCRIPTION:This is a closed meeting.
URL:https://craarscholarship.org/event/december-committee-meeting/
LOCATION:CRAAR Office\, 1860 1st Ave NE\, Cedar Rapids\, IA\, 52402\, United States
CATEGORIES:Monthly Meeting
ORGANIZER;CN="Raymond Siddell":MAILTO:craarscholarshipcommittee@gmail.com
END:VEVENT
BEGIN:VEVENT
DTSTART;TZID=America/Chicago:20221103T103000
DTEND;TZID=America/Chicago:20221103T113000
DTSTAMP:20260421T082618
CREATED:20220908T155130Z
LAST-MODIFIED:20230116T164020Z
UID:183-1667471400-1667475000@craarscholarship.org
SUMMARY:November Committee Meeting
DESCRIPTION:This is a closed meeting.
URL:https://craarscholarship.org/event/november-committee-meeting/
LOCATION:CRAAR Office\, 1860 1st Ave NE\, Cedar Rapids\, IA\, 52402\, United States
CATEGORIES:Monthly Meeting
ORGANIZER;CN="Raymond Siddell":MAILTO:craarscholarshipcommittee@gmail.com
END:VEVENT
BEGIN:VEVENT
DTSTART;TZID=America/Chicago:20221006T103000
DTEND;TZID=America/Chicago:20221006T113000
DTSTAMP:20260421T082618
CREATED:20220908T155051Z
LAST-MODIFIED:20230116T164020Z
UID:181-1665052200-1665055800@craarscholarship.org
SUMMARY:October Committee Meeting
DESCRIPTION:This is a closed meeting.
URL:https://craarscholarship.org/event/october-committee-meeting/
LOCATION:CRAAR Office\, 1860 1st Ave NE\, Cedar Rapids\, IA\, 52402\, United States
CATEGORIES:Monthly Meeting
ORGANIZER;CN="Raymond Siddell":MAILTO:craarscholarshipcommittee@gmail.com
END:VEVENT
BEGIN:VEVENT
DTSTART;VALUE=DATE:20220930
DTEND;VALUE=DATE:20221002
DTSTAMP:20260421T082618
CREATED:20220908T155753Z
LAST-MODIFIED:20220908T155753Z
UID:189-1664564400-1664650799@craarscholarship.org
SUMMARY:2022-2023 Application Opens
DESCRIPTION:
URL:https://craarscholarship.org/event/2022-2023-application-opens/
LOCATION:IA
CATEGORIES:Application
ORGANIZER;CN="Raymond Siddell":MAILTO:craarscholarshipcommittee@gmail.com
END:VEVENT
BEGIN:VEVENT
DTSTART;TZID=America/Chicago:20220907T103000
DTEND;TZID=America/Chicago:20220907T113000
DTSTAMP:20260421T082618
CREATED:20220907T193828Z
LAST-MODIFIED:20230116T164020Z
UID:166-1662546600-1662550200@craarscholarship.org
SUMMARY:September Committee Meeting
DESCRIPTION:This is a closed meeting.
URL:https://craarscholarship.org/event/september-committee-meeting/
LOCATION:CRAAR Office\, 1860 1st Ave NE\, Cedar Rapids\, IA\, 52402\, United States
CATEGORIES:Monthly Meeting
ORGANIZER;CN="Raymond Siddell":MAILTO:craarscholarshipcommittee@gmail.com
END:VEVENT
END:VCALENDAR