BEGIN:VCALENDAR
VERSION:2.0
PRODID:-//Cedar Rapids Area Association of REALTORS® Scholarship Committee - ECPv6.15.20//NONSGML v1.0//EN
CALSCALE:GREGORIAN
METHOD:PUBLISH
X-WR-CALNAME:Cedar Rapids Area Association of REALTORS® Scholarship Committee
X-ORIGINAL-URL:https://craarscholarship.org
X-WR-CALDESC:Events for Cedar Rapids Area Association of REALTORS® Scholarship Committee
REFRESH-INTERVAL;VALUE=DURATION:PT1H
X-Robots-Tag:noindex
X-PUBLISHED-TTL:PT1H
BEGIN:VTIMEZONE
TZID:America/Chicago
BEGIN:DAYLIGHT
TZOFFSETFROM:-0600
TZOFFSETTO:-0500
TZNAME:CDT
DTSTART:20210314T080000
END:DAYLIGHT
BEGIN:STANDARD
TZOFFSETFROM:-0500
TZOFFSETTO:-0600
TZNAME:CST
DTSTART:20211107T070000
END:STANDARD
BEGIN:DAYLIGHT
TZOFFSETFROM:-0600
TZOFFSETTO:-0500
TZNAME:CDT
DTSTART:20220313T080000
END:DAYLIGHT
BEGIN:STANDARD
TZOFFSETFROM:-0500
TZOFFSETTO:-0600
TZNAME:CST
DTSTART:20221106T070000
END:STANDARD
BEGIN:DAYLIGHT
TZOFFSETFROM:-0600
TZOFFSETTO:-0500
TZNAME:CDT
DTSTART:20230312T080000
END:DAYLIGHT
BEGIN:STANDARD
TZOFFSETFROM:-0500
TZOFFSETTO:-0600
TZNAME:CST
DTSTART:20231105T070000
END:STANDARD
BEGIN:DAYLIGHT
TZOFFSETFROM:-0600
TZOFFSETTO:-0500
TZNAME:CDT
DTSTART:20240310T080000
END:DAYLIGHT
BEGIN:STANDARD
TZOFFSETFROM:-0500
TZOFFSETTO:-0600
TZNAME:CST
DTSTART:20241103T070000
END:STANDARD
BEGIN:DAYLIGHT
TZOFFSETFROM:-0600
TZOFFSETTO:-0500
TZNAME:CDT
DTSTART:20250309T080000
END:DAYLIGHT
BEGIN:STANDARD
TZOFFSETFROM:-0500
TZOFFSETTO:-0600
TZNAME:CST
DTSTART:20251102T070000
END:STANDARD
END:VTIMEZONE
BEGIN:VEVENT
DTSTART;VALUE=DATE:20241001
DTEND;VALUE=DATE:20241002
DTSTAMP:20260421T115003
CREATED:20240306T042710Z
LAST-MODIFIED:20240306T042710Z
UID:634-1727740800-1727827199@craarscholarship.org
SUMMARY:Scholarship Application Opens
DESCRIPTION:Please visit the Eligibility and Guidelines page for more information.
URL:https://craarscholarship.org/event/scholarship-application-opens/
CATEGORIES:Application
END:VEVENT
BEGIN:VEVENT
DTSTART;TZID=America/Chicago:20240325T090000
DTEND;TZID=America/Chicago:20240325T140000
DTSTAMP:20260421T115003
CREATED:20240306T042022Z
LAST-MODIFIED:20240306T042022Z
UID:630-1711357200-1711375200@craarscholarship.org
SUMMARY:Scholarship Pick Day
DESCRIPTION:The committee will gather to review all submitted and complete applications and select recipients based on need. Recipients will be notified in early April of their award. \nThis is a closed meeting.
URL:https://craarscholarship.org/event/scholarship-pick-day/
LOCATION:CRAAR Office\, 1860 1st Ave NE\, Cedar Rapids\, IA\, 52402\, United States
CATEGORIES:Application
END:VEVENT
BEGIN:VEVENT
DTSTART;VALUE=DATE:20240315
DTEND;VALUE=DATE:20240316
DTSTAMP:20260421T115003
CREATED:20230523T025839Z
LAST-MODIFIED:20240306T041426Z
UID:405-1710460800-1710547199@craarscholarship.org
SUMMARY:Scholarship Application Closes
DESCRIPTION:Last day to apply for a scholarship. Please visit the Eligibility and Guidelines page for more information and to submit an application.
URL:https://craarscholarship.org/event/applicationcloses23/
CATEGORIES:Application
END:VEVENT
BEGIN:VEVENT
DTSTART;VALUE=DATE:20220930
DTEND;VALUE=DATE:20221002
DTSTAMP:20260421T115003
CREATED:20220908T155753Z
LAST-MODIFIED:20220908T155753Z
UID:189-1664564400-1664650799@craarscholarship.org
SUMMARY:2022-2023 Application Opens
DESCRIPTION:
URL:https://craarscholarship.org/event/2022-2023-application-opens/
CATEGORIES:Application
ORGANIZER;CN="Raymond Siddell":MAILTO:craarscholarshipcommittee@gmail.com
END:VEVENT
END:VCALENDAR